BEGIN:VCALENDAR
VERSION:2.0
PRODID:-//Tukios.com/
BEGIN:VEVENT
UID:a05c4746-4ba1-43c7-abb5-7495747af1f0@www.stanfieldmortuary.com
DTSTAMP:20260421T194247Z
DTSTART:20260425
SUMMARY:Burial
DESCRIPTION:
URL:https://www.stanfieldmortuary.com/obituaries/estelle-johnson
LOCATION: 400 Ruritan Rd  Rocky Mount VA 24151
GEO:36.945426;-79.9391079
END:VEVENT
END:VCALENDAR