BEGIN:VCALENDAR
VERSION:2.0
PRODID:-//Tukios.com/
BEGIN:VEVENT
UID:3a56226f-bf2a-440a-86cb-894f076928d0@www.stanfieldmortuary.com
DTSTAMP:20260421T194111Z
DTSTART:20260425T170000Z
DTEND:20260425T180000Z
SUMMARY:Funeral Service
DESCRIPTION:
URL:https://www.stanfieldmortuary.com/obituaries/estelle-johnson
LOCATION: 400 Ruritan Rd  Rocky Mount VA 24151
GEO:36.945426;-79.9391079
END:VEVENT
END:VCALENDAR