BEGIN:VCALENDAR
VERSION:2.0
PRODID:-//Tukios.com/
BEGIN:VEVENT
UID:c5a79a54-8f2f-42ce-8812-4473de04ba1e@www.stanfieldmortuary.com
DTSTAMP:20260421T194116Z
DTSTART:20260425T163000Z
DTEND:20260425T170000Z
SUMMARY:Visitation
DESCRIPTION:
URL:https://www.stanfieldmortuary.com/obituaries/estelle-johnson
LOCATION: 400 Ruritan Rd  Rocky Mount VA 24151
GEO:36.945426;-79.9391079
END:VEVENT
END:VCALENDAR