BEGIN:VCALENDAR
VERSION:2.0
PRODID:-//Tukios.com/
BEGIN:VEVENT
UID:dbbe02f2-6b1e-46d7-92bd-7345ce5a4726@www.stanfieldmortuary.com
DTSTAMP:20260421T194111Z
DTSTART:20260424T160000Z
DTEND:20260424T230000Z
SUMMARY:Community Viewing
DESCRIPTION:
URL:https://www.stanfieldmortuary.com/obituaries/estelle-johnson
LOCATION: 2491 S Main St  Rocky Mount VA 24151
GEO:36.9686736;-79.8748774
END:VEVENT
END:VCALENDAR